BEGIN:VCALENDAR
VERSION:2.0
PRODID:-//Demo Site - ECPv6.15.18//NONSGML v1.0//EN
CALSCALE:GREGORIAN
METHOD:PUBLISH
X-WR-CALNAME:Demo Site
X-ORIGINAL-URL:https://vip.teeitup.com/ocndemo
X-WR-CALDESC:Events for Demo Site
REFRESH-INTERVAL;VALUE=DURATION:PT1H
X-Robots-Tag:noindex
X-PUBLISHED-TTL:PT1H
BEGIN:VTIMEZONE
TZID:UTC
BEGIN:STANDARD
TZOFFSETFROM:+0000
TZOFFSETTO:+0000
TZNAME:UTC
DTSTART:20240101T000000
END:STANDARD
END:VTIMEZONE
BEGIN:VEVENT
DTSTART;VALUE=DATE:20250819
DTEND;VALUE=DATE:20250820
DTSTAMP:20260420T211917
CREATED:20230719T140129Z
LAST-MODIFIED:20230719T140129Z
UID:10000328-1755561600-1755647999@vip.teeitup.com
SUMMARY:Golf Tournament
DESCRIPTION:
URL:https://vip.teeitup.com/ocndemo/event/golf-tournament/2025-08-19/
END:VEVENT
BEGIN:VEVENT
DTSTART;VALUE=DATE:20250819
DTEND;VALUE=DATE:20250820
DTSTAMP:20260420T211917
CREATED:20230719T140129Z
LAST-MODIFIED:20230719T140129Z
UID:10000356-1755561600-1755647999@vip.teeitup.com
SUMMARY:Golf Tournament
DESCRIPTION:
URL:https://vip.teeitup.com/ocndemo/event/golf-tournament/2025-08-19/
END:VEVENT
BEGIN:VEVENT
DTSTART;VALUE=DATE:20250819
DTEND;VALUE=DATE:20250820
DTSTAMP:20260420T211917
CREATED:20230719T140129Z
LAST-MODIFIED:20230719T140129Z
UID:10000383-1755561600-1755647999@vip.teeitup.com
SUMMARY:Golf Tournament
DESCRIPTION:
URL:https://vip.teeitup.com/ocndemo/event/golf-tournament/2025-08-19/
END:VEVENT
BEGIN:VEVENT
DTSTART;VALUE=DATE:20250819
DTEND;VALUE=DATE:20250820
DTSTAMP:20260420T211917
CREATED:20230719T140129Z
LAST-MODIFIED:20230719T140129Z
UID:10000409-1755561600-1755647999@vip.teeitup.com
SUMMARY:Golf Tournament
DESCRIPTION:
URL:https://vip.teeitup.com/ocndemo/event/golf-tournament/2025-08-19/
END:VEVENT
BEGIN:VEVENT
DTSTART;VALUE=DATE:20250819
DTEND;VALUE=DATE:20250820
DTSTAMP:20260420T211917
CREATED:20230719T140129Z
LAST-MODIFIED:20230719T140129Z
UID:10000434-1755561600-1755647999@vip.teeitup.com
SUMMARY:Golf Tournament
DESCRIPTION:
URL:https://vip.teeitup.com/ocndemo/event/golf-tournament/2025-08-19/
END:VEVENT
BEGIN:VEVENT
DTSTART;VALUE=DATE:20250819
DTEND;VALUE=DATE:20250820
DTSTAMP:20260420T211917
CREATED:20230719T140129Z
LAST-MODIFIED:20230719T140129Z
UID:10000458-1755561600-1755647999@vip.teeitup.com
SUMMARY:Golf Tournament
DESCRIPTION:
URL:https://vip.teeitup.com/ocndemo/event/golf-tournament/2025-08-19/
END:VEVENT
BEGIN:VEVENT
DTSTART;VALUE=DATE:20250819
DTEND;VALUE=DATE:20250820
DTSTAMP:20260420T211917
CREATED:20230719T140129Z
LAST-MODIFIED:20230719T140129Z
UID:10000481-1755561600-1755647999@vip.teeitup.com
SUMMARY:Golf Tournament
DESCRIPTION:
URL:https://vip.teeitup.com/ocndemo/event/golf-tournament/2025-08-19/
END:VEVENT
BEGIN:VEVENT
DTSTART;VALUE=DATE:20250819
DTEND;VALUE=DATE:20250820
DTSTAMP:20260420T211917
CREATED:20230719T140129Z
LAST-MODIFIED:20230719T140129Z
UID:10000503-1755561600-1755647999@vip.teeitup.com
SUMMARY:Golf Tournament
DESCRIPTION:
URL:https://vip.teeitup.com/ocndemo/event/golf-tournament/2025-08-19/
END:VEVENT
BEGIN:VEVENT
DTSTART;VALUE=DATE:20250819
DTEND;VALUE=DATE:20250820
DTSTAMP:20260420T211917
CREATED:20230719T140129Z
LAST-MODIFIED:20230719T140129Z
UID:10000524-1755561600-1755647999@vip.teeitup.com
SUMMARY:Golf Tournament
DESCRIPTION:
URL:https://vip.teeitup.com/ocndemo/event/golf-tournament/2025-08-19/
END:VEVENT
BEGIN:VEVENT
DTSTART;VALUE=DATE:20250819
DTEND;VALUE=DATE:20250820
DTSTAMP:20260420T211917
CREATED:20230719T140129Z
LAST-MODIFIED:20230719T140129Z
UID:10000544-1755561600-1755647999@vip.teeitup.com
SUMMARY:Golf Tournament
DESCRIPTION:
URL:https://vip.teeitup.com/ocndemo/event/golf-tournament/2025-08-19/
END:VEVENT
BEGIN:VEVENT
DTSTART;VALUE=DATE:20250819
DTEND;VALUE=DATE:20250820
DTSTAMP:20260420T211917
CREATED:20230719T140129Z
LAST-MODIFIED:20230719T140129Z
UID:10000563-1755561600-1755647999@vip.teeitup.com
SUMMARY:Golf Tournament
DESCRIPTION:
URL:https://vip.teeitup.com/ocndemo/event/golf-tournament/2025-08-19/
END:VEVENT
BEGIN:VEVENT
DTSTART;VALUE=DATE:20250819
DTEND;VALUE=DATE:20250820
DTSTAMP:20260420T211917
CREATED:20230719T140129Z
LAST-MODIFIED:20230719T140129Z
UID:10000581-1755561600-1755647999@vip.teeitup.com
SUMMARY:Golf Tournament
DESCRIPTION:
URL:https://vip.teeitup.com/ocndemo/event/golf-tournament/2025-08-19/
END:VEVENT
BEGIN:VEVENT
DTSTART;VALUE=DATE:20250819
DTEND;VALUE=DATE:20250820
DTSTAMP:20260420T211917
CREATED:20230719T140129Z
LAST-MODIFIED:20230719T140129Z
UID:10000598-1755561600-1755647999@vip.teeitup.com
SUMMARY:Golf Tournament
DESCRIPTION:
URL:https://vip.teeitup.com/ocndemo/event/golf-tournament/2025-08-19/
END:VEVENT
BEGIN:VEVENT
DTSTART;VALUE=DATE:20250819
DTEND;VALUE=DATE:20250820
DTSTAMP:20260420T211917
CREATED:20230719T140129Z
LAST-MODIFIED:20230719T140129Z
UID:10000614-1755561600-1755647999@vip.teeitup.com
SUMMARY:Golf Tournament
DESCRIPTION:
URL:https://vip.teeitup.com/ocndemo/event/golf-tournament/2025-08-19/
END:VEVENT
BEGIN:VEVENT
DTSTART;VALUE=DATE:20250819
DTEND;VALUE=DATE:20250820
DTSTAMP:20260420T211917
CREATED:20230719T140129Z
LAST-MODIFIED:20230719T140129Z
UID:10000629-1755561600-1755647999@vip.teeitup.com
SUMMARY:Golf Tournament
DESCRIPTION:
URL:https://vip.teeitup.com/ocndemo/event/golf-tournament/2025-08-19/
END:VEVENT
BEGIN:VEVENT
DTSTART;VALUE=DATE:20250819
DTEND;VALUE=DATE:20250820
DTSTAMP:20260420T211917
CREATED:20230719T140129Z
LAST-MODIFIED:20230719T140129Z
UID:10000643-1755561600-1755647999@vip.teeitup.com
SUMMARY:Golf Tournament
DESCRIPTION:
URL:https://vip.teeitup.com/ocndemo/event/golf-tournament/2025-08-19/
END:VEVENT
BEGIN:VEVENT
DTSTART;VALUE=DATE:20250819
DTEND;VALUE=DATE:20250820
DTSTAMP:20260420T211917
CREATED:20230719T140129Z
LAST-MODIFIED:20230719T140129Z
UID:10000656-1755561600-1755647999@vip.teeitup.com
SUMMARY:Golf Tournament
DESCRIPTION:
URL:https://vip.teeitup.com/ocndemo/event/golf-tournament/2025-08-19/
END:VEVENT
BEGIN:VEVENT
DTSTART;VALUE=DATE:20250819
DTEND;VALUE=DATE:20250820
DTSTAMP:20260420T211917
CREATED:20230719T140129Z
LAST-MODIFIED:20230719T140129Z
UID:10000668-1755561600-1755647999@vip.teeitup.com
SUMMARY:Golf Tournament
DESCRIPTION:
URL:https://vip.teeitup.com/ocndemo/event/golf-tournament/2025-08-19/
END:VEVENT
BEGIN:VEVENT
DTSTART;VALUE=DATE:20250819
DTEND;VALUE=DATE:20250820
DTSTAMP:20260420T211917
CREATED:20230719T140129Z
LAST-MODIFIED:20230719T140129Z
UID:10000679-1755561600-1755647999@vip.teeitup.com
SUMMARY:Golf Tournament
DESCRIPTION:
URL:https://vip.teeitup.com/ocndemo/event/golf-tournament/2025-08-19/
END:VEVENT
BEGIN:VEVENT
DTSTART;VALUE=DATE:20250819
DTEND;VALUE=DATE:20250820
DTSTAMP:20260420T211917
CREATED:20230719T140129Z
LAST-MODIFIED:20230719T140129Z
UID:10000689-1755561600-1755647999@vip.teeitup.com
SUMMARY:Golf Tournament
DESCRIPTION:
URL:https://vip.teeitup.com/ocndemo/event/golf-tournament/2025-08-19/
END:VEVENT
BEGIN:VEVENT
DTSTART;VALUE=DATE:20250819
DTEND;VALUE=DATE:20250820
DTSTAMP:20260420T211917
CREATED:20230719T140129Z
LAST-MODIFIED:20230719T140129Z
UID:10000698-1755561600-1755647999@vip.teeitup.com
SUMMARY:Golf Tournament
DESCRIPTION:
URL:https://vip.teeitup.com/ocndemo/event/golf-tournament/2025-08-19/
END:VEVENT
BEGIN:VEVENT
DTSTART;VALUE=DATE:20250819
DTEND;VALUE=DATE:20250820
DTSTAMP:20260420T211917
CREATED:20230719T140129Z
LAST-MODIFIED:20230719T140129Z
UID:10000706-1755561600-1755647999@vip.teeitup.com
SUMMARY:Golf Tournament
DESCRIPTION:
URL:https://vip.teeitup.com/ocndemo/event/golf-tournament/2025-08-19/
END:VEVENT
BEGIN:VEVENT
DTSTART;VALUE=DATE:20250819
DTEND;VALUE=DATE:20250820
DTSTAMP:20260420T211917
CREATED:20230719T140129Z
LAST-MODIFIED:20230719T140129Z
UID:10000713-1755561600-1755647999@vip.teeitup.com
SUMMARY:Golf Tournament
DESCRIPTION:
URL:https://vip.teeitup.com/ocndemo/event/golf-tournament/2025-08-19/
END:VEVENT
BEGIN:VEVENT
DTSTART;VALUE=DATE:20250819
DTEND;VALUE=DATE:20250820
DTSTAMP:20260420T211917
CREATED:20230719T140129Z
LAST-MODIFIED:20230719T140129Z
UID:10000719-1755561600-1755647999@vip.teeitup.com
SUMMARY:Golf Tournament
DESCRIPTION:
URL:https://vip.teeitup.com/ocndemo/event/golf-tournament/2025-08-19/
END:VEVENT
BEGIN:VEVENT
DTSTART;VALUE=DATE:20250819
DTEND;VALUE=DATE:20250820
DTSTAMP:20260420T211917
CREATED:20230719T140129Z
LAST-MODIFIED:20230719T140129Z
UID:10000724-1755561600-1755647999@vip.teeitup.com
SUMMARY:Golf Tournament
DESCRIPTION:
URL:https://vip.teeitup.com/ocndemo/event/golf-tournament/2025-08-19/
END:VEVENT
BEGIN:VEVENT
DTSTART;VALUE=DATE:20250719
DTEND;VALUE=DATE:20250720
DTSTAMP:20260420T211917
CREATED:20230719T140129Z
LAST-MODIFIED:20230719T140129Z
UID:10000327-1752883200-1752969599@vip.teeitup.com
SUMMARY:Golf Tournament
DESCRIPTION:
URL:https://vip.teeitup.com/ocndemo/event/golf-tournament/2025-07-19/
END:VEVENT
BEGIN:VEVENT
DTSTART;VALUE=DATE:20250719
DTEND;VALUE=DATE:20250720
DTSTAMP:20260420T211917
CREATED:20230719T140129Z
LAST-MODIFIED:20230719T140129Z
UID:10000355-1752883200-1752969599@vip.teeitup.com
SUMMARY:Golf Tournament
DESCRIPTION:
URL:https://vip.teeitup.com/ocndemo/event/golf-tournament/2025-07-19/
END:VEVENT
BEGIN:VEVENT
DTSTART;VALUE=DATE:20250719
DTEND;VALUE=DATE:20250720
DTSTAMP:20260420T211917
CREATED:20230719T140129Z
LAST-MODIFIED:20230719T140129Z
UID:10000382-1752883200-1752969599@vip.teeitup.com
SUMMARY:Golf Tournament
DESCRIPTION:
URL:https://vip.teeitup.com/ocndemo/event/golf-tournament/2025-07-19/
END:VEVENT
BEGIN:VEVENT
DTSTART;VALUE=DATE:20250719
DTEND;VALUE=DATE:20250720
DTSTAMP:20260420T211917
CREATED:20230719T140129Z
LAST-MODIFIED:20230719T140129Z
UID:10000408-1752883200-1752969599@vip.teeitup.com
SUMMARY:Golf Tournament
DESCRIPTION:
URL:https://vip.teeitup.com/ocndemo/event/golf-tournament/2025-07-19/
END:VEVENT
BEGIN:VEVENT
DTSTART;VALUE=DATE:20250719
DTEND;VALUE=DATE:20250720
DTSTAMP:20260420T211917
CREATED:20230719T140129Z
LAST-MODIFIED:20230719T140129Z
UID:10000433-1752883200-1752969599@vip.teeitup.com
SUMMARY:Golf Tournament
DESCRIPTION:
URL:https://vip.teeitup.com/ocndemo/event/golf-tournament/2025-07-19/
END:VEVENT
END:VCALENDAR