BEGIN:VCALENDAR
VERSION:2.0
PRODID:-//Pine Woods Golf Club - ECPv6.15.18//NONSGML v1.0//EN
CALSCALE:GREGORIAN
METHOD:PUBLISH
X-WR-CALNAME:Pine Woods Golf Club
X-ORIGINAL-URL:https://vip.teeitup.com/gn-pine
X-WR-CALDESC:Events for Pine Woods Golf Club
REFRESH-INTERVAL;VALUE=DURATION:PT1H
X-Robots-Tag:noindex
X-PUBLISHED-TTL:PT1H
BEGIN:VTIMEZONE
TZID:UTC
BEGIN:STANDARD
TZOFFSETFROM:+0000
TZOFFSETTO:+0000
TZNAME:UTC
DTSTART:20260101T000000
END:STANDARD
END:VTIMEZONE
BEGIN:VEVENT
DTSTART;TZID=UTC:20271207T150000
DTEND;TZID=UTC:20271207T170000
DTSTAMP:20260421T004817
CREATED:20230719T140404Z
LAST-MODIFIED:20230719T140404Z
UID:1584-1828191600-1828198800@vip.teeitup.com
SUMMARY:Men's League
DESCRIPTION:
URL:https://vip.teeitup.com/gn-pine/event/mens-league/2027-12-07/
END:VEVENT
BEGIN:VEVENT
DTSTART;TZID=UTC:20271208T150000
DTEND;TZID=UTC:20271208T170000
DTSTAMP:20260421T004817
CREATED:20230719T140249Z
LAST-MODIFIED:20230719T140249Z
UID:1585-1828278000-1828285200@vip.teeitup.com
SUMMARY:Ladies' Night
DESCRIPTION:
URL:https://vip.teeitup.com/gn-pine/event/ladies-night/2027-12-08/
END:VEVENT
BEGIN:VEVENT
DTSTART;TZID=UTC:20271208T150000
DTEND;TZID=UTC:20271208T170000
DTSTAMP:20260421T004817
CREATED:20230719T140404Z
LAST-MODIFIED:20230719T140404Z
UID:1586-1828278000-1828285200@vip.teeitup.com
SUMMARY:Men's League
DESCRIPTION:
URL:https://vip.teeitup.com/gn-pine/event/mens-league/2027-12-08/
END:VEVENT
BEGIN:VEVENT
DTSTART;TZID=UTC:20271209T150000
DTEND;TZID=UTC:20271209T170000
DTSTAMP:20260421T004817
CREATED:20230719T140249Z
LAST-MODIFIED:20230719T140249Z
UID:1587-1828364400-1828371600@vip.teeitup.com
SUMMARY:Ladies' Night
DESCRIPTION:
URL:https://vip.teeitup.com/gn-pine/event/ladies-night/2027-12-09/
END:VEVENT
BEGIN:VEVENT
DTSTART;TZID=UTC:20271214T150000
DTEND;TZID=UTC:20271214T170000
DTSTAMP:20260421T004817
CREATED:20230719T140404Z
LAST-MODIFIED:20230719T140404Z
UID:1590-1828796400-1828803600@vip.teeitup.com
SUMMARY:Men's League
DESCRIPTION:
URL:https://vip.teeitup.com/gn-pine/event/mens-league/2027-12-14/
END:VEVENT
BEGIN:VEVENT
DTSTART;TZID=UTC:20271215T150000
DTEND;TZID=UTC:20271215T170000
DTSTAMP:20260421T004817
CREATED:20230719T140249Z
LAST-MODIFIED:20230719T140249Z
UID:1593-1828882800-1828890000@vip.teeitup.com
SUMMARY:Ladies' Night
DESCRIPTION:
URL:https://vip.teeitup.com/gn-pine/event/ladies-night/2027-12-15/
END:VEVENT
BEGIN:VEVENT
DTSTART;TZID=UTC:20271215T150000
DTEND;TZID=UTC:20271215T170000
DTSTAMP:20260421T004817
CREATED:20230719T140404Z
LAST-MODIFIED:20230719T140404Z
UID:1594-1828882800-1828890000@vip.teeitup.com
SUMMARY:Men's League
DESCRIPTION:
URL:https://vip.teeitup.com/gn-pine/event/mens-league/2027-12-15/
END:VEVENT
BEGIN:VEVENT
DTSTART;TZID=UTC:20271216T150000
DTEND;TZID=UTC:20271216T170000
DTSTAMP:20260421T004817
CREATED:20230719T140249Z
LAST-MODIFIED:20230719T140249Z
UID:1595-1828969200-1828976400@vip.teeitup.com
SUMMARY:Ladies' Night
DESCRIPTION:
URL:https://vip.teeitup.com/gn-pine/event/ladies-night/2027-12-16/
END:VEVENT
BEGIN:VEVENT
DTSTART;VALUE=DATE:20271219
DTEND;VALUE=DATE:20271220
DTSTAMP:20260421T004817
CREATED:20230719T140317Z
LAST-MODIFIED:20230719T140317Z
UID:1598-1829174400-1829260799@vip.teeitup.com
SUMMARY:Golf Tournament
DESCRIPTION:
URL:https://vip.teeitup.com/gn-pine/event/golf-tournament/2027-12-19/
END:VEVENT
BEGIN:VEVENT
DTSTART;TZID=UTC:20271221T150000
DTEND;TZID=UTC:20271221T170000
DTSTAMP:20260421T004817
CREATED:20230719T140404Z
LAST-MODIFIED:20230719T140404Z
UID:1599-1829401200-1829408400@vip.teeitup.com
SUMMARY:Men's League
DESCRIPTION:
URL:https://vip.teeitup.com/gn-pine/event/mens-league/2027-12-21/
END:VEVENT
BEGIN:VEVENT
DTSTART;TZID=UTC:20271222T150000
DTEND;TZID=UTC:20271222T170000
DTSTAMP:20260421T004817
CREATED:20230719T140249Z
LAST-MODIFIED:20230719T140249Z
UID:1600-1829487600-1829494800@vip.teeitup.com
SUMMARY:Ladies' Night
DESCRIPTION:
URL:https://vip.teeitup.com/gn-pine/event/ladies-night/2027-12-22/
END:VEVENT
BEGIN:VEVENT
DTSTART;TZID=UTC:20271222T150000
DTEND;TZID=UTC:20271222T170000
DTSTAMP:20260421T004817
CREATED:20230719T140404Z
LAST-MODIFIED:20230719T140404Z
UID:1601-1829487600-1829494800@vip.teeitup.com
SUMMARY:Men's League
DESCRIPTION:
URL:https://vip.teeitup.com/gn-pine/event/mens-league/2027-12-22/
END:VEVENT
BEGIN:VEVENT
DTSTART;TZID=UTC:20271223T150000
DTEND;TZID=UTC:20271223T170000
DTSTAMP:20260421T004817
CREATED:20230719T140249Z
LAST-MODIFIED:20230719T140249Z
UID:1602-1829574000-1829581200@vip.teeitup.com
SUMMARY:Ladies' Night
DESCRIPTION:
URL:https://vip.teeitup.com/gn-pine/event/ladies-night/2027-12-23/
END:VEVENT
BEGIN:VEVENT
DTSTART;TZID=UTC:20271228T150000
DTEND;TZID=UTC:20271228T170000
DTSTAMP:20260421T004817
CREATED:20230719T140404Z
LAST-MODIFIED:20230719T140404Z
UID:1603-1830006000-1830013200@vip.teeitup.com
SUMMARY:Men's League
DESCRIPTION:
URL:https://vip.teeitup.com/gn-pine/event/mens-league/2027-12-28/
END:VEVENT
BEGIN:VEVENT
DTSTART;TZID=UTC:20271229T150000
DTEND;TZID=UTC:20271229T170000
DTSTAMP:20260421T004817
CREATED:20230719T140249Z
LAST-MODIFIED:20230719T140249Z
UID:1604-1830092400-1830099600@vip.teeitup.com
SUMMARY:Ladies' Night
DESCRIPTION:
URL:https://vip.teeitup.com/gn-pine/event/ladies-night/2027-12-29/
END:VEVENT
BEGIN:VEVENT
DTSTART;TZID=UTC:20271229T150000
DTEND;TZID=UTC:20271229T170000
DTSTAMP:20260421T004817
CREATED:20230719T140404Z
LAST-MODIFIED:20230719T140404Z
UID:1605-1830092400-1830099600@vip.teeitup.com
SUMMARY:Men's League
DESCRIPTION:
URL:https://vip.teeitup.com/gn-pine/event/mens-league/2027-12-29/
END:VEVENT
BEGIN:VEVENT
DTSTART;TZID=UTC:20271230T150000
DTEND;TZID=UTC:20271230T170000
DTSTAMP:20260421T004817
CREATED:20230719T140249Z
LAST-MODIFIED:20230719T140249Z
UID:1606-1830178800-1830186000@vip.teeitup.com
SUMMARY:Ladies' Night
DESCRIPTION:
URL:https://vip.teeitup.com/gn-pine/event/ladies-night/2027-12-30/
END:VEVENT
BEGIN:VEVENT
DTSTART;TZID=UTC:20280104T150000
DTEND;TZID=UTC:20280104T170000
DTSTAMP:20260421T004817
CREATED:20230719T140404Z
LAST-MODIFIED:20230719T140404Z
UID:1607-1830610800-1830618000@vip.teeitup.com
SUMMARY:Men's League
DESCRIPTION:
URL:https://vip.teeitup.com/gn-pine/event/mens-league/2028-01-04/
END:VEVENT
BEGIN:VEVENT
DTSTART;TZID=UTC:20280105T150000
DTEND;TZID=UTC:20280105T170000
DTSTAMP:20260421T004817
CREATED:20230719T140249Z
LAST-MODIFIED:20230719T140249Z
UID:1608-1830697200-1830704400@vip.teeitup.com
SUMMARY:Ladies' Night
DESCRIPTION:
URL:https://vip.teeitup.com/gn-pine/event/ladies-night/2028-01-05/
END:VEVENT
BEGIN:VEVENT
DTSTART;TZID=UTC:20280105T150000
DTEND;TZID=UTC:20280105T170000
DTSTAMP:20260421T004817
CREATED:20230719T140404Z
LAST-MODIFIED:20230719T140404Z
UID:1609-1830697200-1830704400@vip.teeitup.com
SUMMARY:Men's League
DESCRIPTION:
URL:https://vip.teeitup.com/gn-pine/event/mens-league/2028-01-05/
END:VEVENT
BEGIN:VEVENT
DTSTART;TZID=UTC:20280106T150000
DTEND;TZID=UTC:20280106T170000
DTSTAMP:20260421T004817
CREATED:20230719T140249Z
LAST-MODIFIED:20230719T140249Z
UID:1610-1830783600-1830790800@vip.teeitup.com
SUMMARY:Ladies' Night
DESCRIPTION:
URL:https://vip.teeitup.com/gn-pine/event/ladies-night/2028-01-06/
END:VEVENT
BEGIN:VEVENT
DTSTART;TZID=UTC:20280111T150000
DTEND;TZID=UTC:20280111T170000
DTSTAMP:20260421T004817
CREATED:20230719T140404Z
LAST-MODIFIED:20230719T140404Z
UID:1611-1831215600-1831222800@vip.teeitup.com
SUMMARY:Men's League
DESCRIPTION:
URL:https://vip.teeitup.com/gn-pine/event/mens-league/2028-01-11/
END:VEVENT
BEGIN:VEVENT
DTSTART;TZID=UTC:20280112T150000
DTEND;TZID=UTC:20280112T170000
DTSTAMP:20260421T004817
CREATED:20230719T140249Z
LAST-MODIFIED:20230719T140249Z
UID:1612-1831302000-1831309200@vip.teeitup.com
SUMMARY:Ladies' Night
DESCRIPTION:
URL:https://vip.teeitup.com/gn-pine/event/ladies-night/2028-01-12/
END:VEVENT
BEGIN:VEVENT
DTSTART;TZID=UTC:20280112T150000
DTEND;TZID=UTC:20280112T170000
DTSTAMP:20260421T004817
CREATED:20230719T140404Z
LAST-MODIFIED:20230719T140404Z
UID:1613-1831302000-1831309200@vip.teeitup.com
SUMMARY:Men's League
DESCRIPTION:
URL:https://vip.teeitup.com/gn-pine/event/mens-league/2028-01-12/
END:VEVENT
BEGIN:VEVENT
DTSTART;TZID=UTC:20280113T150000
DTEND;TZID=UTC:20280113T170000
DTSTAMP:20260421T004817
CREATED:20230719T140249Z
LAST-MODIFIED:20230719T140249Z
UID:1614-1831388400-1831395600@vip.teeitup.com
SUMMARY:Ladies' Night
DESCRIPTION:
URL:https://vip.teeitup.com/gn-pine/event/ladies-night/2028-01-13/
END:VEVENT
BEGIN:VEVENT
DTSTART;TZID=UTC:20280118T150000
DTEND;TZID=UTC:20280118T170000
DTSTAMP:20260421T004817
CREATED:20230719T140404Z
LAST-MODIFIED:20230719T140404Z
UID:1617-1831820400-1831827600@vip.teeitup.com
SUMMARY:Men's League
DESCRIPTION:
URL:https://vip.teeitup.com/gn-pine/event/mens-league/2028-01-18/
END:VEVENT
BEGIN:VEVENT
DTSTART;VALUE=DATE:20280119
DTEND;VALUE=DATE:20280120
DTSTAMP:20260421T004817
CREATED:20230719T140317Z
LAST-MODIFIED:20230719T140317Z
UID:1619-1831852800-1831939199@vip.teeitup.com
SUMMARY:Golf Tournament
DESCRIPTION:
URL:https://vip.teeitup.com/gn-pine/event/golf-tournament/2028-01-19/
END:VEVENT
BEGIN:VEVENT
DTSTART;TZID=UTC:20280119T150000
DTEND;TZID=UTC:20280119T170000
DTSTAMP:20260421T004817
CREATED:20230719T140249Z
LAST-MODIFIED:20230719T140249Z
UID:1618-1831906800-1831914000@vip.teeitup.com
SUMMARY:Ladies' Night
DESCRIPTION:
URL:https://vip.teeitup.com/gn-pine/event/ladies-night/2028-01-19/
END:VEVENT
BEGIN:VEVENT
DTSTART;TZID=UTC:20280119T150000
DTEND;TZID=UTC:20280119T170000
DTSTAMP:20260421T004817
CREATED:20230719T140404Z
LAST-MODIFIED:20230719T140404Z
UID:1620-1831906800-1831914000@vip.teeitup.com
SUMMARY:Men's League
DESCRIPTION:
URL:https://vip.teeitup.com/gn-pine/event/mens-league/2028-01-19/
END:VEVENT
BEGIN:VEVENT
DTSTART;TZID=UTC:20280120T150000
DTEND;TZID=UTC:20280120T170000
DTSTAMP:20260421T004817
CREATED:20230719T140249Z
LAST-MODIFIED:20230719T140249Z
UID:1621-1831993200-1832000400@vip.teeitup.com
SUMMARY:Ladies' Night
DESCRIPTION:
URL:https://vip.teeitup.com/gn-pine/event/ladies-night/2028-01-20/
END:VEVENT
END:VCALENDAR