BEGIN:VCALENDAR
VERSION:2.0
PRODID:-//Dogwood Golf Links - ECPv6.15.18//NONSGML v1.0//EN
CALSCALE:GREGORIAN
METHOD:PUBLISH
X-WR-CALNAME:Dogwood Golf Links
X-ORIGINAL-URL:https://vip.teeitup.com/gn-dogwood
X-WR-CALDESC:Events for Dogwood Golf Links
REFRESH-INTERVAL;VALUE=DURATION:PT1H
X-Robots-Tag:noindex
X-PUBLISHED-TTL:PT1H
BEGIN:VTIMEZONE
TZID:UTC
BEGIN:STANDARD
TZOFFSETFROM:+0000
TZOFFSETTO:+0000
TZNAME:UTC
DTSTART:20260101T000000
END:STANDARD
END:VTIMEZONE
BEGIN:VEVENT
DTSTART;TZID=UTC:20270105T150000
DTEND;TZID=UTC:20270105T170000
DTSTAMP:20260421T213022
CREATED:20230719T141655Z
LAST-MODIFIED:20230719T141655Z
UID:10000502-1799161200-1799168400@vip.teeitup.com
SUMMARY:Men's League
DESCRIPTION:
URL:https://vip.teeitup.com/gn-dogwood/event/mens-league/2027-01-05/
END:VEVENT
BEGIN:VEVENT
DTSTART;TZID=UTC:20270107T150000
DTEND;TZID=UTC:20270107T170000
DTSTAMP:20260421T213022
CREATED:20230719T141514Z
LAST-MODIFIED:20230719T141514Z
UID:10000182-1799334000-1799341200@vip.teeitup.com
SUMMARY:Ladies' Night
DESCRIPTION:
URL:https://vip.teeitup.com/gn-dogwood/event/ladies-night/2027-01-07/
END:VEVENT
BEGIN:VEVENT
DTSTART;TZID=UTC:20270112T150000
DTEND;TZID=UTC:20270112T170000
DTSTAMP:20260421T213022
CREATED:20230719T141655Z
LAST-MODIFIED:20230719T141655Z
UID:10000503-1799766000-1799773200@vip.teeitup.com
SUMMARY:Men's League
DESCRIPTION:
URL:https://vip.teeitup.com/gn-dogwood/event/mens-league/2027-01-12/
END:VEVENT
BEGIN:VEVENT
DTSTART;TZID=UTC:20270114T150000
DTEND;TZID=UTC:20270114T170000
DTSTAMP:20260421T213022
CREATED:20230719T141514Z
LAST-MODIFIED:20230719T141514Z
UID:10000183-1799938800-1799946000@vip.teeitup.com
SUMMARY:Ladies' Night
DESCRIPTION:
URL:https://vip.teeitup.com/gn-dogwood/event/ladies-night/2027-01-14/
END:VEVENT
BEGIN:VEVENT
DTSTART;TZID=UTC:20270119T150000
DTEND;TZID=UTC:20270119T170000
DTSTAMP:20260421T213022
CREATED:20230719T141655Z
LAST-MODIFIED:20230719T141655Z
UID:10000504-1800370800-1800378000@vip.teeitup.com
SUMMARY:Men's League
DESCRIPTION:
URL:https://vip.teeitup.com/gn-dogwood/event/mens-league/2027-01-19/
END:VEVENT
BEGIN:VEVENT
DTSTART;TZID=UTC:20270121T150000
DTEND;TZID=UTC:20270121T170000
DTSTAMP:20260421T213022
CREATED:20230719T141514Z
LAST-MODIFIED:20230719T141514Z
UID:10000184-1800543600-1800550800@vip.teeitup.com
SUMMARY:Ladies' Night
DESCRIPTION:
URL:https://vip.teeitup.com/gn-dogwood/event/ladies-night/2027-01-21/
END:VEVENT
BEGIN:VEVENT
DTSTART;VALUE=DATE:20270123
DTEND;VALUE=DATE:20270124
DTSTAMP:20260421T213022
CREATED:20230719T141546Z
LAST-MODIFIED:20230719T141546Z
UID:10000304-1800662400-1800748799@vip.teeitup.com
SUMMARY:Golf Tournament
DESCRIPTION:
URL:https://vip.teeitup.com/gn-dogwood/event/golf-tournament/2027-01-23/
END:VEVENT
BEGIN:VEVENT
DTSTART;TZID=UTC:20270126T150000
DTEND;TZID=UTC:20270126T170000
DTSTAMP:20260421T213022
CREATED:20230719T141655Z
LAST-MODIFIED:20230719T141655Z
UID:10000505-1800975600-1800982800@vip.teeitup.com
SUMMARY:Men's League
DESCRIPTION:
URL:https://vip.teeitup.com/gn-dogwood/event/mens-league/2027-01-26/
END:VEVENT
BEGIN:VEVENT
DTSTART;TZID=UTC:20270128T150000
DTEND;TZID=UTC:20270128T170000
DTSTAMP:20260421T213022
CREATED:20230719T141514Z
LAST-MODIFIED:20230719T141514Z
UID:10000185-1801148400-1801155600@vip.teeitup.com
SUMMARY:Ladies' Night
DESCRIPTION:
URL:https://vip.teeitup.com/gn-dogwood/event/ladies-night/2027-01-28/
END:VEVENT
END:VCALENDAR