BEGIN:VCALENDAR
VERSION:2.0
PRODID:-//vip.teeitup.com - ECPv6.15.18//NONSGML v1.0//EN
CALSCALE:GREGORIAN
METHOD:PUBLISH
X-WR-CALNAME:vip.teeitup.com
X-ORIGINAL-URL:https://vip.teeitup.com
X-WR-CALDESC:Events for vip.teeitup.com
REFRESH-INTERVAL;VALUE=DURATION:PT1H
X-Robots-Tag:noindex
X-PUBLISHED-TTL:PT1H
BEGIN:VTIMEZONE
TZID:UTC
BEGIN:STANDARD
TZOFFSETFROM:+0000
TZOFFSETTO:+0000
TZNAME:UTC
DTSTART:20260101T000000
END:STANDARD
END:VTIMEZONE
BEGIN:VEVENT
DTSTART;TZID=UTC:20270205T080000
DTEND;TZID=UTC:20270205T170000
DTSTAMP:20260420T184629
CREATED:20250221T201515Z
LAST-MODIFIED:20250221T201515Z
UID:10000164-1801814400-1801846800@vip.teeitup.com
SUMMARY:test recurring
DESCRIPTION:
URL:https://vip.teeitup.com/event/test-recurring/2027-02-05/
END:VEVENT
BEGIN:VEVENT
DTSTART;TZID=UTC:20270212T080000
DTEND;TZID=UTC:20270212T170000
DTSTAMP:20260420T184629
CREATED:20250221T201515Z
LAST-MODIFIED:20250221T201515Z
UID:10000165-1802419200-1802451600@vip.teeitup.com
SUMMARY:test recurring
DESCRIPTION:
URL:https://vip.teeitup.com/event/test-recurring/2027-02-12/
END:VEVENT
BEGIN:VEVENT
DTSTART;TZID=UTC:20270216T080000
DTEND;TZID=UTC:20270216T170000
DTSTAMP:20260420T184629
CREATED:20241119T203623Z
LAST-MODIFIED:20241119T203623Z
UID:10000029-1802764800-1802797200@vip.teeitup.com
SUMMARY:test
DESCRIPTION:test
URL:https://vip.teeitup.com/event/test/2027-02-16/
END:VEVENT
BEGIN:VEVENT
DTSTART;TZID=UTC:20270219T080000
DTEND;TZID=UTC:20270219T170000
DTSTAMP:20260420T184629
CREATED:20250221T201515Z
LAST-MODIFIED:20250221T201515Z
UID:10000166-1803024000-1803056400@vip.teeitup.com
SUMMARY:test recurring
DESCRIPTION:
URL:https://vip.teeitup.com/event/test-recurring/2027-02-19/
END:VEVENT
BEGIN:VEVENT
DTSTART;TZID=UTC:20270226T080000
DTEND;TZID=UTC:20270226T170000
DTSTAMP:20260420T184629
CREATED:20250221T201515Z
LAST-MODIFIED:20250221T201515Z
UID:10000167-1803628800-1803661200@vip.teeitup.com
SUMMARY:test recurring
DESCRIPTION:
URL:https://vip.teeitup.com/event/test-recurring/2027-02-26/
END:VEVENT
END:VCALENDAR