BEGIN:VCALENDAR
VERSION:2.0
PRODID:-//vip.teeitup.com - ECPv6.15.18//NONSGML v1.0//EN
CALSCALE:GREGORIAN
METHOD:PUBLISH
X-ORIGINAL-URL:https://vip.teeitup.com
X-WR-CALDESC:Events for vip.teeitup.com
REFRESH-INTERVAL;VALUE=DURATION:PT1H
X-Robots-Tag:noindex
X-PUBLISHED-TTL:PT1H
BEGIN:VTIMEZONE
TZID:UTC
BEGIN:STANDARD
TZOFFSETFROM:+0000
TZOFFSETTO:+0000
TZNAME:UTC
DTSTART:20250101T000000
END:STANDARD
END:VTIMEZONE
BEGIN:VEVENT
DTSTART;TZID=UTC:20261106T080000
DTEND;TZID=UTC:20261106T170000
DTSTAMP:20260423T060051
CREATED:20250221T201515Z
LAST-MODIFIED:20250221T201515Z
UID:10000151-1793952000-1793984400@vip.teeitup.com
SUMMARY:test recurring
DESCRIPTION:
URL:https://vip.teeitup.com/event/test-recurring/2026-11-06/
END:VEVENT
BEGIN:VEVENT
DTSTART;TZID=UTC:20261113T080000
DTEND;TZID=UTC:20261113T170000
DTSTAMP:20260423T060051
CREATED:20250221T201515Z
LAST-MODIFIED:20250221T201515Z
UID:10000152-1794556800-1794589200@vip.teeitup.com
SUMMARY:test recurring
DESCRIPTION:
URL:https://vip.teeitup.com/event/test-recurring/2026-11-13/
END:VEVENT
BEGIN:VEVENT
DTSTART;TZID=UTC:20261117T080000
DTEND;TZID=UTC:20261117T170000
DTSTAMP:20260423T060051
CREATED:20241119T203623Z
LAST-MODIFIED:20241119T203623Z
UID:10000026-1794902400-1794934800@vip.teeitup.com
SUMMARY:test
DESCRIPTION:test
URL:https://vip.teeitup.com/event/test/2026-11-17/
END:VEVENT
BEGIN:VEVENT
DTSTART;TZID=UTC:20261120T080000
DTEND;TZID=UTC:20261120T170000
DTSTAMP:20260423T060051
CREATED:20250221T201515Z
LAST-MODIFIED:20250221T201515Z
UID:10000153-1795161600-1795194000@vip.teeitup.com
SUMMARY:test recurring
DESCRIPTION:
URL:https://vip.teeitup.com/event/test-recurring/2026-11-20/
END:VEVENT
BEGIN:VEVENT
DTSTART;TZID=UTC:20261127T080000
DTEND;TZID=UTC:20261127T170000
DTSTAMP:20260423T060051
CREATED:20250221T201515Z
LAST-MODIFIED:20250221T201515Z
UID:10000154-1795766400-1795798800@vip.teeitup.com
SUMMARY:test recurring
DESCRIPTION:
URL:https://vip.teeitup.com/event/test-recurring/2026-11-27/
END:VEVENT
END:VCALENDAR