BEGIN:VCALENDAR
VERSION:2.0
PRODID:-//vip.teeitup.com - ECPv6.15.18//NONSGML v1.0//EN
CALSCALE:GREGORIAN
METHOD:PUBLISH
X-WR-CALNAME:vip.teeitup.com
X-ORIGINAL-URL:https://vip.teeitup.com
X-WR-CALDESC:Events for vip.teeitup.com
REFRESH-INTERVAL;VALUE=DURATION:PT1H
X-Robots-Tag:noindex
X-PUBLISHED-TTL:PT1H
BEGIN:VTIMEZONE
TZID:UTC
BEGIN:STANDARD
TZOFFSETFROM:+0000
TZOFFSETTO:+0000
TZNAME:UTC
DTSTART:20250101T000000
END:STANDARD
END:VTIMEZONE
BEGIN:VTIMEZONE
TZID:America/New_York
BEGIN:DAYLIGHT
TZOFFSETFROM:-0500
TZOFFSETTO:-0400
TZNAME:EDT
DTSTART:20250309T070000
END:DAYLIGHT
BEGIN:STANDARD
TZOFFSETFROM:-0400
TZOFFSETTO:-0500
TZNAME:EST
DTSTART:20251102T060000
END:STANDARD
BEGIN:DAYLIGHT
TZOFFSETFROM:-0500
TZOFFSETTO:-0400
TZNAME:EDT
DTSTART:20260308T070000
END:DAYLIGHT
BEGIN:STANDARD
TZOFFSETFROM:-0400
TZOFFSETTO:-0500
TZNAME:EST
DTSTART:20261101T060000
END:STANDARD
BEGIN:DAYLIGHT
TZOFFSETFROM:-0500
TZOFFSETTO:-0400
TZNAME:EDT
DTSTART:20270314T070000
END:DAYLIGHT
BEGIN:STANDARD
TZOFFSETFROM:-0400
TZOFFSETTO:-0500
TZNAME:EST
DTSTART:20271107T060000
END:STANDARD
END:VTIMEZONE
BEGIN:VEVENT
DTSTART;TZID=UTC:20260306T080000
DTEND;TZID=UTC:20260306T170000
DTSTAMP:20260421T211408
CREATED:20250221T201515Z
LAST-MODIFIED:20250221T201515Z
UID:10000116-1772784000-1772816400@vip.teeitup.com
SUMMARY:test recurring
DESCRIPTION:
URL:https://vip.teeitup.com/event/test-recurring/2026-03-06/
END:VEVENT
BEGIN:VEVENT
DTSTART;TZID=UTC:20260308T080000
DTEND;TZID=UTC:20260308T120000
DTSTAMP:20260421T211408
CREATED:20250221T080520Z
LAST-MODIFIED:20250221T080520Z
UID:10000572-1772956800-1772971200@vip.teeitup.com
SUMMARY:YC-Breakfast - Lakefront Pavilion
DESCRIPTION:
URL:https://vip.teeitup.com/event/yc-breakfast-lakefront-pavilion-2/2026-03-08/
END:VEVENT
BEGIN:VEVENT
DTSTART;TZID=America/New_York:20260311T220000
DTEND;TZID=America/New_York:20260311T230000
DTSTAMP:20260421T211408
CREATED:20250221T080859Z
LAST-MODIFIED:20250221T080859Z
UID:10000598-1773266400-1773270000@vip.teeitup.com
SUMMARY:YC-Meeting - Clubhouse Terrace Room
DESCRIPTION:
URL:https://vip.teeitup.com/event/yc-meeting-clubhouse-terrace-room/2026-03-11/
END:VEVENT
BEGIN:VEVENT
DTSTART;TZID=UTC:20260313T080000
DTEND;TZID=UTC:20260313T170000
DTSTAMP:20260421T211408
CREATED:20250221T201515Z
LAST-MODIFIED:20250221T201515Z
UID:10000117-1773388800-1773421200@vip.teeitup.com
SUMMARY:test recurring
DESCRIPTION:
URL:https://vip.teeitup.com/event/test-recurring/2026-03-13/
END:VEVENT
BEGIN:VEVENT
DTSTART;TZID=UTC:20260317T080000
DTEND;TZID=UTC:20260317T170000
DTSTAMP:20260421T211408
CREATED:20241119T203623Z
LAST-MODIFIED:20241119T203623Z
UID:10000018-1773734400-1773766800@vip.teeitup.com
SUMMARY:test
DESCRIPTION:test
URL:https://vip.teeitup.com/event/test/2026-03-17/
END:VEVENT
BEGIN:VEVENT
DTSTART;TZID=UTC:20260320T080000
DTEND;TZID=UTC:20260320T170000
DTSTAMP:20260421T211408
CREATED:20250221T201515Z
LAST-MODIFIED:20250221T201515Z
UID:10000118-1773993600-1774026000@vip.teeitup.com
SUMMARY:test recurring
DESCRIPTION:
URL:https://vip.teeitup.com/event/test-recurring/2026-03-20/
END:VEVENT
BEGIN:VEVENT
DTSTART;TZID=UTC:20260327T080000
DTEND;TZID=UTC:20260327T170000
DTSTAMP:20260421T211408
CREATED:20250221T201515Z
LAST-MODIFIED:20250221T201515Z
UID:10000119-1774598400-1774630800@vip.teeitup.com
SUMMARY:test recurring
DESCRIPTION:
URL:https://vip.teeitup.com/event/test-recurring/2026-03-27/
END:VEVENT
END:VCALENDAR