BEGIN:VCALENDAR
VERSION:2.0
PRODID:-//vip.teeitup.com - ECPv6.15.18//NONSGML v1.0//EN
CALSCALE:GREGORIAN
METHOD:PUBLISH
X-ORIGINAL-URL:https://vip.teeitup.com
X-WR-CALDESC:Events for vip.teeitup.com
REFRESH-INTERVAL;VALUE=DURATION:PT1H
X-Robots-Tag:noindex
X-PUBLISHED-TTL:PT1H
BEGIN:VTIMEZONE
TZID:UTC
BEGIN:STANDARD
TZOFFSETFROM:+0000
TZOFFSETTO:+0000
TZNAME:UTC
DTSTART:20250101T000000
END:STANDARD
END:VTIMEZONE
BEGIN:VEVENT
DTSTART;TZID=UTC:20260113T120000
DTEND;TZID=UTC:20260113T150000
DTSTAMP:20260423T051716
CREATED:20250221T075303Z
LAST-MODIFIED:20250221T075303Z
UID:10000370-1768305600-1768316400@vip.teeitup.com
SUMMARY:Hand & Foot Card Group - Clubhouse Ballroom
DESCRIPTION:
URL:https://vip.teeitup.com/event/hand-foot-card-group-clubhouse-ballroom/2026-01-13/
END:VEVENT
END:VCALENDAR