BEGIN:VCALENDAR
VERSION:2.0
PRODID:-//vip.teeitup.com - ECPv6.15.18//NONSGML v1.0//EN
CALSCALE:GREGORIAN
METHOD:PUBLISH
X-WR-CALNAME:vip.teeitup.com
X-ORIGINAL-URL:https://vip.teeitup.com
X-WR-CALDESC:Events for vip.teeitup.com
REFRESH-INTERVAL;VALUE=DURATION:PT1H
X-Robots-Tag:noindex
X-PUBLISHED-TTL:PT1H
BEGIN:VTIMEZONE
TZID:UTC
BEGIN:STANDARD
TZOFFSETFROM:+0000
TZOFFSETTO:+0000
TZNAME:UTC
DTSTART:20240101T000000
END:STANDARD
END:VTIMEZONE
BEGIN:VEVENT
DTSTART;TZID=UTC:20251121T080000
DTEND;TZID=UTC:20251121T170000
DTSTAMP:20260423T054358
CREATED:20250221T201515Z
LAST-MODIFIED:20250221T201515Z
UID:10000101-1763712000-1763744400@vip.teeitup.com
SUMMARY:test recurring
DESCRIPTION:
URL:https://vip.teeitup.com/event/test-recurring/2025-11-21/
END:VEVENT
BEGIN:VEVENT
DTSTART;TZID=UTC:20251121T120000
DTEND;TZID=UTC:20251121T150000
DTSTAMP:20260423T054358
CREATED:20250221T075959Z
LAST-MODIFIED:20250221T075959Z
UID:10000520-1763726400-1763737200@vip.teeitup.com
SUMMARY:Dominos - Clubhouse Ballroom
DESCRIPTION:
URL:https://vip.teeitup.com/event/dominos-clubhouse-ballroom/2025-11-21/
END:VEVENT
END:VCALENDAR