BEGIN:VCALENDAR
VERSION:2.0
PRODID:-//vip.teeitup.com - ECPv6.15.18//NONSGML v1.0//EN
CALSCALE:GREGORIAN
METHOD:PUBLISH
X-WR-CALNAME:vip.teeitup.com
X-ORIGINAL-URL:https://vip.teeitup.com
X-WR-CALDESC:Events for vip.teeitup.com
REFRESH-INTERVAL;VALUE=DURATION:PT1H
X-Robots-Tag:noindex
X-PUBLISHED-TTL:PT1H
BEGIN:VTIMEZONE
TZID:UTC
BEGIN:STANDARD
TZOFFSETFROM:+0000
TZOFFSETTO:+0000
TZNAME:UTC
DTSTART:20240101T000000
END:STANDARD
END:VTIMEZONE
BEGIN:VTIMEZONE
TZID:America/New_York
BEGIN:DAYLIGHT
TZOFFSETFROM:-0500
TZOFFSETTO:-0400
TZNAME:EDT
DTSTART:20240310T070000
END:DAYLIGHT
BEGIN:STANDARD
TZOFFSETFROM:-0400
TZOFFSETTO:-0500
TZNAME:EST
DTSTART:20241103T060000
END:STANDARD
BEGIN:DAYLIGHT
TZOFFSETFROM:-0500
TZOFFSETTO:-0400
TZNAME:EDT
DTSTART:20250309T070000
END:DAYLIGHT
BEGIN:STANDARD
TZOFFSETFROM:-0400
TZOFFSETTO:-0500
TZNAME:EST
DTSTART:20251102T060000
END:STANDARD
BEGIN:DAYLIGHT
TZOFFSETFROM:-0500
TZOFFSETTO:-0400
TZNAME:EDT
DTSTART:20260308T070000
END:DAYLIGHT
BEGIN:STANDARD
TZOFFSETFROM:-0400
TZOFFSETTO:-0500
TZNAME:EST
DTSTART:20261101T060000
END:STANDARD
END:VTIMEZONE
BEGIN:VEVENT
DTSTART;TZID=UTC:20251112T100000
DTEND;TZID=UTC:20251112T120000
DTSTAMP:20260423T054319
CREATED:20250221T075532Z
LAST-MODIFIED:20250221T075532Z
UID:10000413-1762941600-1762948800@vip.teeitup.com
SUMMARY:Line Dance Lessons - Clubhouse Ballroom
DESCRIPTION:
URL:https://vip.teeitup.com/event/line-dance-lessons-clubhouse-ballroom/2025-11-12/
END:VEVENT
BEGIN:VEVENT
DTSTART;TZID=America/New_York:20251112T220000
DTEND;TZID=America/New_York:20251112T230000
DTSTAMP:20260423T054319
CREATED:20250221T080859Z
LAST-MODIFIED:20250221T080859Z
UID:10000594-1762984800-1762988400@vip.teeitup.com
SUMMARY:YC-Meeting - Clubhouse Terrace Room
DESCRIPTION:
URL:https://vip.teeitup.com/event/yc-meeting-clubhouse-terrace-room/2025-11-12/
END:VEVENT
END:VCALENDAR