BEGIN:VCALENDAR
VERSION:2.0
PRODID:-//vip.teeitup.com - ECPv6.15.18//NONSGML v1.0//EN
CALSCALE:GREGORIAN
METHOD:PUBLISH
X-ORIGINAL-URL:https://vip.teeitup.com
X-WR-CALDESC:Events for vip.teeitup.com
REFRESH-INTERVAL;VALUE=DURATION:PT1H
X-Robots-Tag:noindex
X-PUBLISHED-TTL:PT1H
BEGIN:VTIMEZONE
TZID:UTC
BEGIN:STANDARD
TZOFFSETFROM:+0000
TZOFFSETTO:+0000
TZNAME:UTC
DTSTART:20240101T000000
END:STANDARD
END:VTIMEZONE
BEGIN:VEVENT
DTSTART;TZID=UTC:20251029T100000
DTEND;TZID=UTC:20251029T120000
DTSTAMP:20260422T122919
CREATED:20250221T075532Z
LAST-MODIFIED:20250221T075532Z
UID:10000411-1761732000-1761739200@vip.teeitup.com
SUMMARY:Line Dance Lessons - Clubhouse Ballroom
DESCRIPTION:
URL:https://vip.teeitup.com/event/line-dance-lessons-clubhouse-ballroom/2025-10-29/
END:VEVENT
END:VCALENDAR