BEGIN:VCALENDAR
VERSION:2.0
PRODID:-//vip.teeitup.com - ECPv6.15.18//NONSGML v1.0//EN
CALSCALE:GREGORIAN
METHOD:PUBLISH
X-ORIGINAL-URL:https://vip.teeitup.com
X-WR-CALDESC:Events for vip.teeitup.com
REFRESH-INTERVAL;VALUE=DURATION:PT1H
X-Robots-Tag:noindex
X-PUBLISHED-TTL:PT1H
BEGIN:VTIMEZONE
TZID:UTC
BEGIN:STANDARD
TZOFFSETFROM:+0000
TZOFFSETTO:+0000
TZNAME:UTC
DTSTART:20240101T000000
END:STANDARD
END:VTIMEZONE
BEGIN:VEVENT
DTSTART;TZID=UTC:20251010T080000
DTEND;TZID=UTC:20251010T170000
DTSTAMP:20260423T165040
CREATED:20250221T201515Z
LAST-MODIFIED:20250221T201515Z
UID:10000095-1760083200-1760115600@vip.teeitup.com
SUMMARY:test recurring
DESCRIPTION:
URL:https://vip.teeitup.com/event/test-recurring/2025-10-10/
END:VEVENT
BEGIN:VEVENT
DTSTART;TZID=UTC:20251010T080000
DTEND;TZID=UTC:20251010T170000
DTSTAMP:20260423T165040
CREATED:20251009T210002Z
LAST-MODIFIED:20251009T210005Z
UID:10000601-1760083200-1760115600@vip.teeitup.com
SUMMARY:test
DESCRIPTION:
URL:https://vip.teeitup.com/event/test-2/2025-10-10/
END:VEVENT
BEGIN:VEVENT
DTSTART;TZID=UTC:20251010T120000
DTEND;TZID=UTC:20251010T150000
DTSTAMP:20260423T165040
CREATED:20250221T075959Z
LAST-MODIFIED:20250221T075959Z
UID:10000514-1760097600-1760108400@vip.teeitup.com
SUMMARY:Dominos - Clubhouse Ballroom
DESCRIPTION:
URL:https://vip.teeitup.com/event/dominos-clubhouse-ballroom/2025-10-10/
END:VEVENT
END:VCALENDAR