BEGIN:VCALENDAR
VERSION:2.0
PRODID:-//vip.teeitup.com - ECPv6.15.18//NONSGML v1.0//EN
CALSCALE:GREGORIAN
METHOD:PUBLISH
X-WR-CALNAME:vip.teeitup.com
X-ORIGINAL-URL:https://vip.teeitup.com
X-WR-CALDESC:Events for vip.teeitup.com
REFRESH-INTERVAL;VALUE=DURATION:PT1H
X-Robots-Tag:noindex
X-PUBLISHED-TTL:PT1H
BEGIN:VTIMEZONE
TZID:UTC
BEGIN:STANDARD
TZOFFSETFROM:+0000
TZOFFSETTO:+0000
TZNAME:UTC
DTSTART:20240101T000000
END:STANDARD
END:VTIMEZONE
BEGIN:VEVENT
DTSTART;TZID=UTC:20250914T080000
DTEND;TZID=UTC:20250914T120000
DTSTAMP:20260422T215153
CREATED:20250221T080520Z
LAST-MODIFIED:20250221T080520Z
UID:10000566-1757836800-1757851200@vip.teeitup.com
SUMMARY:YC-Breakfast - Lakefront Pavilion
DESCRIPTION:
URL:https://vip.teeitup.com/event/yc-breakfast-lakefront-pavilion-2/2025-09-14/
END:VEVENT
END:VCALENDAR